Workbook

Sheet Steel
A1: FRED Graph Observations
A2: Federal Reserve Economic Data, Federal Reserve Bank of St. Louis
A3: https://fred.stlouisfed.org/seriesBeta/WPU101704
A4: Help: https://fredhelp.stlouisfed.org
A5: This data may be copyrighted. Please refer to the Terms of Use: https://fred.stlouisfed.org/legal#fred-terms-faq
A7: WPU101704_NBD20140101
A8: Producer Price Index by Commodity: Metals and Metal Products: Hot Rolled Steel Bars, Plates, and Structural Shapes, Index 2005=100/2015=100, Annual, Not Seasonally Adjusted
A9: Hot Rolled Steel Bars, Plates, and Structural Shapes
A11: observation_date | B11: WPU101704_NBD20050101 | D11: observation_date | E11: WPU101704_NBD20150101 | G11: observation_date | H11: WPU101704_NBD20140101
A12: 38353 | B12: 100 | D12: 42005 | E12: 100 | G12: 40179 | H12: 100
A13: 38718 | B13: 106.77825 | D13: 42370 | E13: 88.84389 | G13: 40544 | H13: 115.65484
A14: 39083 | B14: 117.33146 | D14: 42736 | E14: 96.52581 | G14: 40909 | H14: 110.62092
A15: 39448 | B15: 142.41618 | D15: 43101 | E15: 111.18762 | G15: 41275 | H15: 103.59504
A16: 39814 | B16: 106.95552 | D16: 43466 | E16: 110.8321 | G16: 41640 | H16: 107.25489
A17: 40179 | B17: 120.66844 | D17: 43831 | E17: 100.99905 | G17: 42005 | H17: 96.01607
A18: 40544 | B18: 139.55889 | D18: 44197 | E18: 139.22186 | G18: 42370 | H18: 85.30441
A19: 40909 | B19: 133.48454 | D19: 44562 | E19: 174.39139 | G19: 42736 | H19: 92.68029
A20: 41275 | B20: 125.00652 | D20: 44927 | E20: 158.72085 | G20: 43101 | H20: 106.75798
A21: 41640 | B21: 129.42281 | D21: 45292 | E21: 148.51595 | G21: 43466 | H21: 106.41663
A22: 42005 | B22: 115.8611 | D22: 45658 | E22: 144.9113 | G22: 43831 | H22: 96.97533
A23: 42370 | B23: 102.9355 | G23: 44197 | H23: 133.67537
A24: 42736 | B24: 111.83586 | G24: 44562 | H24: 167.44376
A25: 43101 | B25: 128.82319 | G25: 44927 | H25: 152.39753
A26: 43466 | B26: 128.41128 | G26: 45292 | H26: 143.10967
A27: 43831 | B27: 117.01861 | G27: 45658 | H27: 129.9829
A28: 44197 | B28: 161.30398
A29: 44562 | B29: 202.05178
A30: 44927 | B30: 183.89572
A31: 45292 | B31: 172.07221
A32: 45658 | B32: 167.89582

Sheet Wage China
A1: source: | B1: https://data.stats.gov.cn/english/easyquery.htm?cn=C01&f=6696
A2: Average Wage of Employed Persons in State-owned Units, Construction(yuan)
A3: (values in grey and italic are not available yet und calculated by linear regression of the time series)
A4: fixed base indexation
B6: In Yuan | C6: Xchngrate | D6: In USD | E6: 2010=100 | F6: 2015=100
A7: 2005 | B7: =_xlfn.FORECAST.LINEAR(2005, B8:B25, A8:A25) -> 13953.268 | C7: 8.1936 | D7: =1/C7*B7 -> 1702.9472
A8: 2006 | B8: 18166 | C8: 7.9723 | D8: =1/C8*B8 -> 2278.6398
A9: 2007 | B9: 20963 | C9: 7.6058 | D9: =1/C9*B9 -> 2756.1861
A10: 2008 | B10: 23394 | C10: 6.9477 | D10: =1/C10*B10 -> 3367.1575
A11: 2009 | B11: 27750 | C11: 6.8307 | D11: =1/C11*B11 -> 4062.5412
A12: 2010 | B12: 31777 | C12: 6.7696 | D12: =1/C12*B12 -> 4694.0735 | E12: 100
A13: 2011 | B13: 36071 | C13: 6.463 | D13: =1/C13*B13 -> 5581.1543 | E13: =D13/$D$12*100 -> 118.89789
A14: 2012 | B14: 40116 | C14: 6.3093 | D14: =1/C14*B14 -> 6358.2331 | E14: =D14/$D$12*100 -> 135.45235
A15: 2013 | B15: 43849 | C15: 6.1478 | D15: =1/C15*B15 -> 7132.4702 | E15: =D15/$D$12*100 -> 151.94628
A16: 2014 | B16: 46409 | C16: 6.162 | D16: =1/C16*B16 -> 7531.4833 | E16: =D16/$D$12*100 -> 160.44664
A17: 2015 | B17: 49544 | C17: 6.2827 | D17: =1/C17*B17 -> 7885.7816 | E17: =D17/$D$12*100 -> 167.99442 | F17: 100
A18: 2016 | B18: 52551 | C18: 6.64 | D18: =1/C18*B18 -> 7914.3072 | E18: =D18/$D$12*100 -> 168.60212 | F18: =D18/$D$17*100 -> 100.36174
A19: 2017 | B19: 55623 | C19: 6.7569 | D19: =1/C19*B19 -> 8232.0295 | E19: =D19/$D$12*100 -> 175.3707 | F19: =D19/$D$17*100 -> 104.39079
A20: 2018 | B20: 57324 | C20: 6.609 | D20: =1/C20*B20 -> 8673.6269 | E20: =D20/$D$12*100 -> 184.77825 | F20: =D20/$D$17*100 -> 109.99071
A21: 2019 | B21: 56617 | C21: 6.9081 | D21: =1/C21*B21 -> 8195.7412 | E21: =D21/$D$12*100 -> 174.59763 | F21: =D21/$D$17*100 -> 103.93061
A22: 2020 | B22: 66779 | C22: 6.9042 | D22: =1/C22*B22 -> 9672.2285 | E22: =D22/$D$12*100 -> 206.05192 | F22: =D22/$D$17*100 -> 122.65402
A23: 2021 | B23: 75155 | C23: 6.4508 | D23: =1/C23*B23 -> 11650.493 | E23: =D23/$D$12*100 -> 248.19579 | F23: =D23/$D$17*100 -> 147.7405
A24: 2022 | B24: 78497 | C24: 6.729 | D24: =1/C24*B24 -> 11665.478 | E24: =D24/$D$12*100 -> 248.51502 | F24: =D24/$D$17*100 -> 147.93052
A25: 2023 | B25: 76286 | C25: 7.0809 | D25: =1/C25*B25 -> 10773.489 | E25: =D25/$D$12*100 -> 229.51258 | F25: =D25/$D$17*100 -> 136.61917
A26: 2024 | B26: =_xlfn.FORECAST.LINEAR(2024, B8:B25, A8:A25) -> 81254.621 | C26: 7.1957 | D26: =1/C26*B26 -> 11292.108 | E26: =D26/$D$12*100 -> 240.56095 | F26: =D26/$D$17*100 -> 143.1958
A27: 2025 | B27: =_xlfn.FORECAST.LINEAR(2025, B8:B26, A8:A26) -> 84796.797 | C27: 7.1875 | D27: =1/C27*B27 -> 11797.815 | E27: =D27/$D$12*100 -> 251.33427 | F27: =D27/$D$17*100 -> 149.6087

Sheet Wage Japan
A1: 毎月勤労統計調査(MONTHLY LABOUR SURVEY) | F1: 賃金指数(Wage indices) 現金給与総額(Total cash earnings)
A2: 事業所規模(Size of establishments)： | F2: ５人以上(Establishments with 5 employees or more)
A3: 就業形態(Type of Employment): | F3: 就業形態計(Total)
A4: 産業(Industry): | F4: 建設業(Construction) | Y4: source: | Z4: https://www.e-stat.go.jp/stat-search/files?stat_infid=000032189720
Z5: Monthly Labor Survey / Monthly Labor Survey Nationwide Survey / Long-term time series table Monthly, annual, fiscal year, half-year, quarterly
A6: 指数(Indices) | E6: 令和２年平均＝１００(2020 average = 100)
A7: 年 | B7: 1-12 | C7: 1-6 | D7: 7-12 | E7: 1-3 | F7: 4-6 | G7: 7-9 | H7: 10-12 | I7: 1 | J7: 2 | K7: 3 | L7: 4 | M7: 5 | N7: 6 | O7: 7 | P7: 8 | Q7: 9 | R7: 10 | S7: 11 | T7: 12 | U7: 4-3 | Y7: search source: | Z7: https://www.e-stat.go.jp/stat-search/files?page=1&layout=datalist&toukei=00450071&tstat=000001011791&cycle=0&tclass1=000001035519&tclass2=000001144287&tclass3val=0
A8: year | B8: 年平均 | C8: 上半期 | D8: 下半期 | E8: 第１四半期 | F8: 第２四半期 | G8: 第３四半期 | H8: 第４四半期 | I8: １月 | J8: ２月 | K8: ３月 | L8: ４月 | M8: ５月 | N8: ６月 | O8: ７月 | P8: ８月 | Q8: ９月 | R8: １０月 | S8: １１月 | T8: １２月 | U8: 年度平均 | Y8: Table Number | Z8: 7
B9: year av. | C9: 1st Half | D9: 2nd Half | E9: 1st Qr. | F9: 2nd Qr. | G9: 3rd Qr. | H9: 4th Qr. | I9: Jan. | J9: Feb. | K9: Mar. | L9: Apr. | M9: May | N9: Jun. | O9: Jul. | P9: Aug. | Q9: Sep. | R9: Oct. | S9: Nov. | T9: Dec. | U9: fiscal y. av. | V9: 2015=100 | Y9: Name of table | Z9: Total cash earnings index and rate of increase/decrease - total employment type (5 or more employees)
A10: 1952 | B10: - | C10: - | D10: - | E10: - | F10: - | G10: - | H10: - | I10: - | J10: - | K10: - | L10: - | M10: - | N10: - | O10: - | P10: - | Q10: - | R10: - | S10: - | T10: - | U10: - | Y10: Name of table (JP) | Z10: 現金給与総額 指数及び増減率－就業形態計（５人以上）
A11: 1953 | B11: - | C11: - | D11: - | E11: - | F11: - | G11: - | H11: - | I11: - | J11: - | K11: - | L11: - | M11: - | N11: - | O11: - | P11: - | Q11: - | R11: - | S11: - | T11: - | U11: -
A12: 1954 | B12: - | C12: - | D12: - | E12: - | F12: - | G12: - | H12: - | I12: - | J12: - | K12: - | L12: - | M12: - | N12: - | O12: - | P12: - | Q12: - | R12: - | S12: - | T12: - | U12: -
A13: 1955 | B13: - | C13: - | D13: - | E13: - | F13: - | G13: - | H13: - | I13: - | J13: - | K13: - | L13: - | M13: - | N13: - | O13: - | P13: - | Q13: - | R13: - | S13: - | T13: - | U13: -
A14: 1956 | B14: - | C14: - | D14: - | E14: - | F14: - | G14: - | H14: - | I14: - | J14: - | K14: - | L14: - | M14: - | N14: - | O14: - | P14: - | Q14: - | R14: - | S14: - | T14: - | U14: - | Y14: Contractual cash earnings : earnings paid according to method and conditions previously determined by labor contracts, collective agreements, or wage regulations of establishments.
A15: 1957 | B15: - | C15: - | D15: - | E15: - | F15: - | G15: - | H15: - | I15: - | J15: - | K15: - | L15: - | M15: - | N15: - | O15: - | P15: - | Q15: - | R15: - | S15: - | T15: - | U15: -
A16: 1958 | B16: - | C16: - | D16: - | E16: - | F16: - | G16: - | H16: - | I16: - | J16: - | K16: - | L16: - | M16: - | N16: - | O16: - | P16: - | Q16: - | R16: - | S16: - | T16: - | U16: - | Y16: Scheduled cash earnings : contractual cash earnings other than non-scheduled cash earnings.
A17: 1959 | B17: - | C17: - | D17: - | E17: - | F17: - | G17: - | H17: - | I17: - | J17: - | K17: - | L17: - | M17: - | N17: - | O17: - | P17: - | Q17: - | R17: - | S17: - | T17: - | U17: -
A18: 1960 | B18: - | C18: - | D18: - | E18: - | F18: - | G18: - | H18: - | I18: - | J18: - | K18: - | L18: - | M18: - | N18: - | O18: - | P18: - | Q18: - | R18: - | S18: - | T18: - | U18: - | Y18: Non-scheduled cash earnings are the wages paid for work performed outside scheduled working hours, and on days off or night work, that is allowances for working outside work hours, night work, early morning work, and overnight duty
A19: 1961 | B19: - | C19: - | D19: - | E19: - | F19: - | G19: - | H19: - | I19: - | J19: - | K19: - | L19: - | M19: - | N19: - | O19: - | P19: - | Q19: - | R19: - | S19: - | T19: - | U19: -
A20: 1962 | B20: - | C20: - | D20: - | E20: - | F20: - | G20: - | H20: - | I20: - | J20: - | K20: - | L20: - | M20: - | N20: - | O20: - | P20: - | Q20: - | R20: - | S20: - | T20: - | U20: - | Y20: Special cash earnings : amount actually paid to the employee during the survey period for temporary or unforeseen reasons not based on any previous agreement, contract, or rule. Also included in this category are retroactive payment of wages as a result of a new agreement, and payments such as summer and year end bonuses which, though terms and amounts are fixed by collective agreements, are calculated over a period exceeding three months, and such as allowances (e. g., marriage allowance) paid with respect to unforeseen events.
A21: 1963 | B21: - | C21: - | D21: - | E21: - | F21: - | G21: - | H21: - | I21: - | J21: - | K21: - | L21: - | M21: - | N21: - | O21: - | P21: - | Q21: - | R21: - | S21: - | T21: - | U21: -
A22: 1964 | B22: - | C22: - | D22: - | E22: - | F22: - | G22: - | H22: - | I22: - | J22: - | K22: - | L22: - | M22: - | N22: - | O22: - | P22: - | Q22: - | R22: - | S22: - | T22: - | U22: - | Y22: Total cash earnings : total for “contractual cash earnings” and “special cash earnings”
A23: 1965 | B23: - | C23: - | D23: - | E23: - | F23: - | G23: - | H23: - | I23: - | J23: - | K23: - | L23: - | M23: - | N23: - | O23: - | P23: - | Q23: - | R23: - | S23: - | T23: - | U23: -
A24: 1966 | B24: - | C24: - | D24: - | E24: - | F24: - | G24: - | H24: - | I24: - | J24: - | K24: - | L24: - | M24: - | N24: - | O24: - | P24: - | Q24: - | R24: - | S24: - | T24: - | U24: -
A25: 1967 | B25: - | C25: - | D25: - | E25: - | F25: - | G25: - | H25: - | I25: - | J25: - | K25: - | L25: - | M25: - | N25: - | O25: - | P25: - | Q25: - | R25: - | S25: - | T25: - | U25: -
A26: 1968 | B26: - | C26: - | D26: - | E26: - | F26: - | G26: - | H26: - | I26: - | J26: - | K26: - | L26: - | M26: - | N26: - | O26: - | P26: - | Q26: - | R26: - | S26: - | T26: - | U26: -
A27: 1969 | B27: - | C27: - | D27: - | E27: - | F27: - | G27: - | H27: - | I27: - | J27: - | K27: - | L27: - | M27: - | N27: - | O27: - | P27: - | Q27: - | R27: - | S27: - | T27: - | U27: -
A28: 1970 | B28: - | C28: - | D28: - | E28: - | F28: - | G28: - | H28: - | I28: - | J28: - | K28: - | L28: - | M28: - | N28: - | O28: - | P28: - | Q28: - | R28: - | S28: - | T28: - | U28: -
A29: 1971 | B29: - | C29: - | D29: - | E29: - | F29: - | G29: - | H29: - | I29: - | J29: - | K29: - | L29: - | M29: - | N29: - | O29: - | P29: - | Q29: - | R29: - | S29: - | T29: - | U29: -
A30: 1972 | B30: - | C30: - | D30: - | E30: - | F30: - | G30: - | H30: - | I30: - | J30: - | K30: - | L30: - | M30: - | N30: - | O30: - | P30: - | Q30: - | R30: - | S30: - | T30: - | U30: -
A31: 1973 | B31: - | C31: - | D31: - | E31: - | F31: - | G31: - | H31: - | I31: - | J31: - | K31: - | L31: - | M31: - | N31: - | O31: - | P31: - | Q31: - | R31: - | S31: - | T31: - | U31: -
A32: 1974 | B32: - | C32: - | D32: - | E32: - | F32: - | G32: - | H32: - | I32: - | J32: - | K32: - | L32: - | M32: - | N32: - | O32: - | P32: - | Q32: - | R32: - | S32: - | T32: - | U32: -
A33: 1975 | B33: - | C33: - | D33: - | E33: - | F33: - | G33: - | H33: - | I33: - | J33: - | K33: - | L33: - | M33: - | N33: - | O33: - | P33: - | Q33: - | R33: - | S33: - | T33: - | U33: -
A34: 1976 | B34: - | C34: - | D34: - | E34: - | F34: - | G34: - | H34: - | I34: - | J34: - | K34: - | L34: - | M34: - | N34: - | O34: - | P34: - | Q34: - | R34: - | S34: - | T34: - | U34: -
... A47: 1989 | B47: - | C47: - | D47: - | E47: - | F47: - | G47: - | H47: - | I47: - | J47: - | K47: - | L47: - | M47: - | N47: - | O47: - | P47: - | Q47: - | R47: - | S47: - | T47: - | U47: -
A48: 1990 | B48: 100.3 | C48: 88.3 | D48: 112.2 | E48: 79.8 | F48: 96.9 | G48: 98.9 | H48: 125.6 | I48: 81.7 | J48: 75.3 | K48: 82.4 | L48: 78.4 | M48: 77.8 | N48: 134.4 | O48: 131 | P48: 87.7 | Q48: 77.9 | R48: 78.6 | S48: 81.3 | T48: 216.9 | U48: 101.1
A49: 1991 | B49: 104.8 | C49: 92 | D49: 117.5 | E49: 82.9 | F49: 101.2 | G49: 104 | H49: 130.9 | I49: 83.3 | J49: 78.9 | K49: 86.4 | L49: 81.8 | M49: 80.9 | N49: 140.9 | O49: 136.9 | P49: 94 | Q49: 81.2 | R49: 81.4 | S49: 84.7 | T49: 226.6 | U49: 105.5
A50: 1992 | B50: 106.9 | C50: 95 | D50: 118.7 | E50: 85.9 | F50: 104.1 | G50: 106.2 | H50: 131.2 | I50: 87.4 | J50: 81.4 | K50: 89 | L50: 83.9 | M50: 83.3 | N50: 145.1 | O50: 141.5 | P50: 94.5 | Q50: 82.5 | R50: 82.9 | S50: 85.9 | T50: 224.9 | U50: 107
A51: 1993 | B51: 107.1 | C51: 95.5 | D51: 118.6 | E51: 86.5 | F51: 104.6 | G51: 106.3 | H51: 130.9 | I51: 87.6 | J51: 82.5 | K51: 89.4 | L51: 84.8 | M51: 84.1 | N51: 144.8 | O51: 139.5 | P51: 95.6 | Q51: 83.9 | R51: 83.9 | S51: 87.6 | T51: 221.1 | U51: 107.5
A52: 1994 | B52: 108.7 | C52: 98.5 | D52: 118.9 | E52: 88.1 | F52: 108.9 | G52: 105.3 | H52: 132.6 | I52: 90.2 | J52: 83.7 | K52: 90.5 | L52: 86.5 | M52: 85.5 | N52: 154.7 | O52: 134.9 | P52: 95.2 | Q52: 85.7 | R52: 85.8 | S52: 89.3 | T52: 222.7 | U52: 109.2
...

Sheet Wage Europe
A1: ECB Data Portal
A4: TITLE | C4: Labour cost index
A5: SERIES KEY | C5: LCI.Q.I9.W.LCI_WAG.BTS
A6: TIME SERIES PAGE | C6: https://data.ecb.europa.eu/data/datasets/LCI/LCI.Q.I9.W.LCI_WAG.BTS
A7: GEOGRAPHICAL AREA | C7: Euro area 20 (fixed composition) as of 1 January 2023 (I9)
A8: FREQUENCY | C8: Quarterly
A9: DATASET | C9: LCI
A10: DATA SOURCE | C10: Statistical Office of the European Commission (Eurostat)
A11: COLLECTION TYPE | C11: Average of observations through period (A)
A12: UNIT | C12: Index
A15: DATE | B15: TIME PERIOD | C15: Labour cost index (LCI.Q.I9.W.LCI_WAG.BTS)
A16: 2009-03-31 | B16: Q1 2009 | C16: 74.7
A17: 2009-06-30 | B17: Q2 2009 | C17: 83.7
A18: 2009-09-30 | B18: Q3 2009 | C18: 78.5 | I18: 2010=100 | J18: 2015=100 | K18: Figures not available yet were extrapolated with Simple Linear Growth
A19: 2009-12-31 | B19: Q4 2009 | C19: 85.5 | G19: 2010 | H19: {=INDEX(C:C, 23 + (ROW(A1)-1)*4)} -> 86.7 | I19: 100
A20: 2010-03-31 | B20: Q1 2010 | C20: 76.1 | G20: 2011 | H20: {=INDEX(C:C, 23 + (ROW(A2)-1)*4)} -> 88.5 | I20: =H20/$H$19*100 -> 102.07612
A21: 2010-06-30 | B21: Q2 2010 | C21: 85.1 | G21: 2012 | H21: {=INDEX(C:C, 23 + (ROW(A3)-1)*4)} -> 90.5 | I21: =H21/$H$19*100 -> 104.38293
A22: 2010-09-30 | B22: Q3 2010 | C22: 79.1 | G22: 2013 | H22: {=INDEX(C:C, 23 + (ROW(A4)-1)*4)} -> 91.6 | I22: =H22/$H$19*100 -> 105.65167
A23: 2010-12-31 | B23: Q4 2010 | C23: 86.7 | G23: 2014 | H23: {=INDEX(C:C, 23 + (ROW(A5)-1)*4)} -> 92.7 | I23: =H23/$H$19*100 -> 106.92042
A24: 2011-03-31 | B24: Q1 2011 | C24: 77.4 | G24: 2015 | H24: {=INDEX(C:C, 23 + (ROW(A6)-1)*4)} -> 94.3 | I24: =H24/$H$19*100 -> 108.76586 | J24: 100
A25: 2011-06-30 | B25: Q2 2011 | C25: 87.1 | G25: 2016 | H25: {=INDEX(C:C, 23 + (ROW(A7)-1)*4)} -> 95.6 | I25: =H25/$H$19*100 -> 110.26528 | J25: =H25/$H$24*100 -> 101.37858
A26: 2011-09-30 | B26: Q3 2011 | C26: 80.7 | G26: 2017 | H26: {=INDEX(C:C, 23 + (ROW(A8)-1)*4)} -> 97.5 | I26: =H26/$H$19*100 -> 112.45675 | J26: =H26/$H$24*100 -> 103.39343
A27: 2011-12-31 | B27: Q4 2011 | C27: 88.5 | G27: 2018 | H27: {=INDEX(C:C, 23 + (ROW(A9)-1)*4)} -> 100 | I27: =H27/$H$19*100 -> 115.34025 | J27: =H27/$H$24*100 -> 106.04454
A28: 2012-03-31 | B28: Q1 2012 | C28: 78.5 | G28: 2019 | H28: {=INDEX(C:C, 23 + (ROW(A10)-1)*4)} -> 102.5 | I28: =H28/$H$19*100 -> 118.22376 | J28: =H28/$H$24*100 -> 108.69565
A29: 2012-06-30 | B29: Q2 2012 | C29: 89 | G29: 2020 | H29: {=INDEX(C:C, 23 + (ROW(A11)-1)*4)} -> 105.6 | I29: =H29/$H$19*100 -> 121.79931 | J29: =H29/$H$24*100 -> 111.98303
A30: 2012-09-30 | B30: Q3 2012 | C30: 82.3 | G30: 2021 | H30: {=INDEX(C:C, 23 + (ROW(A12)-1)*4)} -> 107.9 | I30: =H30/$H$19*100 -> 124.45213 | J30: =H30/$H$24*100 -> 114.42206
A31: 2012-12-31 | B31: Q4 2012 | C31: 90.5 | G31: 2022 | H31: {=INDEX(C:C, 23 + (ROW(A13)-1)*4)} -> 113.1 | I31: =H31/$H$19*100 -> 130.44983 | J31: =H31/$H$24*100 -> 119.93637
A32: 2013-03-31 | B32: Q1 2013 | C32: 79.8 | G32: 2023 | H32: {=INDEX(C:C, 23 + (ROW(A14)-1)*4)} -> 117.3 | I32: =H32/$H$19*100 -> 135.29412 | J32: =H32/$H$24*100 -> 124.39024
A33: 2013-06-30 | B33: Q2 2013 | C33: 90.2 | G33: 2024 | H33: {=INDEX(C:C, 23 + (ROW(A15)-1)*4)} -> 122.1 | I33: =H33/$H$19*100 -> 140.83045 | J33: =H33/$H$24*100 -> 129.48038
A34: 2013-09-30 | B34: Q3 2013 | C34: 83.1 | G34: 2025 | H34: {=INDEX(C:C, 23 + (ROW(A16)-1)*4)} -> 125.6 | I34: =H34/$H$19*100 -> 144.86736 | J34: =H34/$H$24*100 -> 133.19194
A35: 2013-12-31 | B35: Q4 2013 | C35: 91.6
A36: 2014-03-31 | B36: Q1 2014 | C36: 80.9
A37: 2014-06-30 | B37: Q2 2014 | C37: 91.5
A38: 2014-09-30 | B38: Q3 2014 | C38: 84.3
A39: 2014-12-31 | B39: Q4 2014 | C39: 92.7
A40: 2015-03-31 | B40: Q1 2015 | C40: 82.6
A41: 2015-06-30 | B41: Q2 2015 | C41: 93.1
A42: 2015-09-30 | B42: Q3 2015 | C42: 85.8
A43: 2015-12-31 | B43: Q4 2015 | C43: 94.3
A44: 2016-03-31 | B44: Q1 2016 | C44: 84.2
...

Sheet Wage Korea
A1: 2024 2/2, 2025.01.22, Unit Wages by Job Family
A2: https://kosis.kr/statHtml/statHtml.do?orgId=365&tblId=TX_36504_A001_1&conn_path=I2&language=en
A3: Unit: WON
A5: By Detailed Job Family(1) | B5: 2010.2/2 | C5: 2011.2/2 | D5: 2012.2/2 | E5: 2013.2/2 | F5: 2014.2/2 | G5: 2015.2/2 | H5: 2016.2/2 | I5: 2017.2/2 | J5: 2018.2/2 | K5: 2019.2/2 | L5: 2020.2/2 | M5: 2021.2/2 | N5: 2022.2/2 | O5: 2023.2/2 | P5: 2024.2/2 | Q5: 2025.2/2 | R5: 2026.1/2 | W5: 2010 | X5: 2011 | Y5: 2012 | Z5: 2013 | AA5: 2014 | AB5: 2015 | AC5: =AB5+1 -> 2016 | AD5: =AC5+1 -> 2017 | AE5: =AD5+1 -> 2018 | AF5: =AE5+1 -> 2019 | AG5: =AF5+1 -> 2020 | AH5: =AG5+1 -> 2021 | AI5: =AH5+1 -> 2022 | AJ5: =AI5+1 -> 2023 | ... AL5: =AK5+1 -> 2025
A6: 5008 | B6: - | C6: - | D6: - | E6: - | F6: - | G6: - | H6: - | I6: - | J6: - | K6: - | L6: 257972 | M6: 264217 | N6: 266992 | O6: 265252 | P6: 260378 | Q6: 265227 | R6: 271869 | V6: Boilermaker | W6: =_xlfn.XLOOKUP($V6,$A$6:$A$500,B$6:B$500) -> 84813 | X6: =_xlfn.XLOOKUP($V6,$A$6:$A$500,C$6:C$500) -> 90595 | Y6: =_xlfn.XLOOKUP($V6,$A$6:$A$500,D$6:D$500) -> 105230 | Z6: =_xlfn.XLOOKUP($V6,$A$6:$A$500,E$6:E$500) -> 111174 | AA6: =_xlfn.XLOOKUP($V6,$A$6:$A$500,F$6:F$500) -> 119278 | AB6: =_xlfn.XLOOKUP($V6,$A$6:$A$500,G$6:G$500) -> 118057 | AC6: =_xlfn.XLOOKUP($V6,$A$6:$A$500,H$6:H$500) -> 130838 | AD6: =_xlfn.XLOOKUP($V6,$A$6:$A$500,I$6:I$500) -> 142144 | ... AK6: =_xlfn.XLOOKUP($V6,$A$6:$A$500,P$6:P$500) -> 230103 | AL6: =_xlfn.FORECAST.LINEAR(2025,W6:AK6,W5:AK5) -> 236907.19
A7: 5009 | B7: - | C7: - | D7: - | E7: - | F7: - | G7: - | H7: - | I7: - | J7: - | K7: - | L7: 207449 | M7: 206224 | N7: 214705 | O7: 214819 | P7: 215530 | Q7: 5009 | R7: 216558 | V7: Welder | W7: =_xlfn.XLOOKUP($V7,$A$6:$A$500,B$6:B$500) -> 108866 | X7: =_xlfn.XLOOKUP($V7,$A$6:$A$500,C$6:C$500) -> 115090 | Y7: =_xlfn.XLOOKUP($V7,$A$6:$A$500,D$6:D$500) -> 123164 | Z7: =_xlfn.XLOOKUP($V7,$A$6:$A$500,E$6:E$500) -> 128244 | AA7: =_xlfn.XLOOKUP($V7,$A$6:$A$500,F$6:F$500) -> 129940 | AB7: =_xlfn.XLOOKUP($V7,$A$6:$A$500,G$6:G$500) -> 138252 | AC7: =_xlfn.XLOOKUP($V7,$A$6:$A$500,H$6:H$500) -> 153849 | AD7: =_xlfn.XLOOKUP($V7,$A$6:$A$500,I$6:I$500) -> 163001 | ... AL7: =_xlfn.XLOOKUP($V7,$A$6:$A$500,Q$6:Q$500) -> 280178
A8: 5010 | B8: - | C8: - | D8: - | E8: - | F8: - | G8: - | H8: - | I8: - | J8: - | K8: - | L8: 176238 | M8: 177964 | N8: 181589 | O8: 185766 | P8: 185457 | Q8: 5010 | R8: 186963 | V8: Caulker | W8: =_xlfn.XLOOKUP($V8,$A$6:$A$500,B$6:B$500) -> 95213 | X8: =_xlfn.XLOOKUP($V8,$A$6:$A$500,C$6:C$500) -> 99928 | Y8: =_xlfn.XLOOKUP($V8,$A$6:$A$500,D$6:D$500) -> 110727 | Z8: =_xlfn.XLOOKUP($V8,$A$6:$A$500,E$6:E$500) -> 110360 | AA8: =_xlfn.XLOOKUP($V8,$A$6:$A$500,F$6:F$500) -> 114347 | AB8: =_xlfn.XLOOKUP($V8,$A$6:$A$500,G$6:G$500) -> 118066 | AC8: =_xlfn.XLOOKUP($V8,$A$6:$A$500,H$6:H$500) -> 129804 | AD8: =_xlfn.XLOOKUP($V8,$A$6:$A$500,I$6:I$500) -> 142317 | ... AL8: =_xlfn.XLOOKUP($V8,$A$6:$A$500,Q$6:Q$500) -> 208590
A9: 5011 | B9: - | C9: - | D9: - | E9: - | F9: - | G9: - | H9: - | I9: - | J9: - | K9: - | L9: 146028 | M9: 149841 | N9: 158045 | O9: 157179 | P9: 158008 | Q9: 5011 | R9: 161595 | V9: Average | W9: =AVERAGE(W6:W8) -> 96297.333 | X9: =AVERAGE(X6:X8) -> 101871 | Y9: =AVERAGE(Y6:Y8) -> 113040.33 | Z9: =AVERAGE(Z6:Z8) -> 116592.67 | AA9: =AVERAGE(AA6:AA8) -> 121188.33 | AB9: =AVERAGE(AB6:AB8) -> 124791.67 | AC9: =AVERAGE(AC6:AC8) -> 138163.67 | AD9: =AVERAGE(AD6:AD8) -> 149154 | ... AL9: =AVERAGE(AL6:AL8) -> 241891.73
A10: Aggregate Paving Worker | B10: 90496 | C10: 88444 | D10: 91841 | E10: 100604 | F10: 110164 | G10: 113795 | H10: 115556 | I10: 125125 | J10: 138693 | K10: 151602 | L10: 161580 | M10: - | N10: 192239 | O10: 201946 | P10: 211355 | Q10: 219579 | R10: 221015 | U10: Xchngrate | V10: Xchngrate | W10: 1155.74 | X10: 1106.94 | Y10: 1126.16 | Z10: 1094.67 | AA10: 1052.29 | AB10: 1130.96 | AC10: 1159.34 | AD10: 1129.0435 | AE10: 1099.2926 | AF10: 1165.8016 | AG10: 1180.5554 | AH10: 1144.8911 | AI10: 1291.7796 | AJ10: 1306.7637 | AK10: 1363.4381 | AL10: 1421.3963
A11: Architectural Carpenter | B11: 98254 | C11: 106641 | D11: 113281 | E11: 123200 | F11: 133609 | G11: 142205 | H11: 158297 | I11: 169062 | J11: 188225 | K11: 203532 | L11: 217895 | M11: 225210 | N11: 242631 | O11: 267639 | P11: 279267 | Q11: 283068 | R11: 277642 | U11: In USD | V11: In USD | W11: =1/W10*W9 -> 83.320931 | X11: =1/X10*X9 -> 92.029378 | Y11: =1/Y10*Y9 -> 100.3768 | Z11: =1/Z10*Z9 -> 106.50942 | AA11: =1/AA10*AA9 -> 115.16629 | AB11: =1/AB10*AB9 -> 110.34136 | AC11: =1/AC10*AC9 -> 119.17442 | AD11: =1/AD10*AD9 -> 132.10651 | ... AL11: =1/AL10*AL9 -> 170.17895
A12: Asbestos Removing Worker | B12: 92842 | C12: 98119 | D12: 93868 | E12: 99818 | F12: 111020 | G12: 117550 | H12: 129920 | I12: 141192 | J12: 159868 | K12: 178514 | L12: 175708 | M12: 186269 | N12: 191523 | O12: 202830 | P12: 203469 | Q12: 204762 | R12: 204181 | U12: Index | V12: Index | W12: 100 | X12: =X11/$W$11*100 -> 110.45169 | Y12: =Y11/$W$11*100 -> 120.47008 | Z12: =Z11/$W$11*100 -> 127.83033 | AA12: =AA11/$W$11*100 -> 138.22012 | AB12: =AB11/$W$11*100 -> 132.42934 | AC12: =AC11/$W$11*100 -> 143.03058 | AD12: =AD11/$W$11*100 -> 158.55141 | AE12: =AE11/$W$11*100 -> 183.29423 | ... AL12: =AL11/$W$11*100 -> 204.24514
A13: Boilermaker | B13: 84813 | C13: 90595 | D13: 105230 | E13: 111174 | F13: 119278 | G13: 118057 | H13: 130838 | I13: 142144 | J13: 159406 | K13: 178567 | L13: 193985 | M13: 193938 | N13: 205072 | O13: 216022 | P13: 230103 | Q13: - | R13: 240120 | AB13: 100 | AC13: =AC11/$AB$11*100 -> 108.00521 | AD13: =AD11/$AB$11*100 -> 119.72529 | AE13: =AE11/$AB$11*100 -> 138.40907 | AF13: =AF11/$AB$11*100 -> 146.31814 | AG13: =AG11/$AB$11*100 -> 153.54475 | AH13: =AH11/$AB$11*100 -> 161.24584 | AI13: =AI11/$AB$11*100 -> 148.4649 | AJ13: =AJ11/$AB$11*100 -> 156.82308 | ... AL13: =AL11/$AB$11*100 -> 154.22952
A14: Boring Worker | B14: 84617 | C14: 90591 | D14: 96008 | E14: 100791 | F14: 106648 | G14: 116234 | H14: 127977 | I14: 136757 | J14: 150050 | K14: 169406 | L14: 180135 | M14: 193659 | N14: 199921 | O14: 220391 | P14: 221816 | Q14: 226520 | R14: 232562 | U14: Year | V14: Index
A15: Cadastral Engineer | B15: 181586 | C15: 191190 | D15: 193114 | E15: 211122 | F15: 201493 | G15: 213060 | H15: 223006 | I15: 237460 | J15: 236123 | K15: 235826 | L15: 244812 | M15: 245110 | N15: 250962 | O15: 255175 | P15: 256260 | Q15: 274286 | R15: 275711 | U15: 2010 | V15: 100
A16: Cadastral Industry Engineer | B16: 150144 | C16: 159262 | D16: 168906 | E16: 176646 | F16: 180780 | G16: 189484 | H16: 190980 | I16: 205029 | J16: 205702 | K16: 204511 | L16: 214803 | M16: 217040 | N16: 219741 | O16: 231699 | P16: 234723 | Q16: 242724 | R16: 245000 | U16: 2011 | V16: 110.45169
A17: Cadastral Technician | B17: 115850 | C17: 125193 | D17: 141524 | E17: 149064 | F17: 155121 | G17: 160774 | H17: 163334 | I17: 174452 | J17: 173700 | K17: 171936 | L17: 174004 | M17: 177107 | N17: 181993 | O17: 189226 | P17: 185830 | Q17: 180875 | R17: 178874 | U17: 2012 | V17: 120.47008
A18: Caulker | B18: 95213 | C18: 99928 | D18: 110727 | E18: 110360 | F18: 114347 | G18: 118066 | H18: 129804 | I18: 142317 | J18: 163904 | K18: 176693 | L18: 181699 | M18: 186456 | N18: 191040 | O18: 199797 | P18: 204830 | Q18: 208590 | R18: 209131 | U18: 2013 | V18: 127.83033
A19: Concrete Worker | B19: 100947 | C19: 102951 | D19: 111559 | E19: 123616 | F19: 131474 | G19: 142556 | H19: 157427 | I19: 167893 | J19: 199737 | K19: 208492 | L19: 211203 | M19: 220755 | N19: 235988 | O19: 255373 | P19: 264080 | Q19: 271064 | R19: 273540 | U19: 2014 | V19: 138.22012
A20: Construction Equipment Operator | B20: 97425 | C20: 105406 | D20: 104611 | E20: 114259 | F20: 121654 | G20: 130411 | H20: 143601 | I20: 154499 | J20: 181074 | K20: 190235 | L20: 203878 | M20: 215834 | N20: 230245 | O20: 255803 | P20: 272996 | Q20: 279824 | R20: 283297 | U20: =U19+1 -> 2015 | V20: 132.42934 | W20: 100
A21: Crew | B21: 78945 | C21: 81609 | D21: 89177 | E21: 93160 | F21: 102894 | G21: 107317 | H21: - | I21: 114850 | J21: 125707 | K21: 137972 | L21: 148607 | M21: 148176 | N21: - | O21: 191869 | P21: 204255 | Q21: - | R21: - | U21: =U20+1 -> 2016 | V21: 143.03058 | W21: 108.00521
A22: Diver | B22: 144015 | C22: 155679 | D22: 155876 | E22: 158273 | F22: 185400 | G22: 185057 | H22: 220486 | I22: 242022 | J22: 269167 | K22: 275382 | L22: 285436 | M22: 295409 | N22: 323830 | O22: 362612 | P22: 388408 | Q22: 392061 | R22: 387342 | U22: =U21+1 -> 2017 | V22: 158.55141 | W22: 119.72529
A23: Draughtsman | B23: 81538 | C23: 87155 | D23: 91037 | E23: 101657 | F23: 110834 | G23: 117921 | H23: 128795 | I23: 138832 | J23: 153608 | K23: 167434 | L23: 178602 | M23: 188233 | N23: 207792 | O23: 217544 | P23: 230134 | Q23: 239200 | R23: 237324 | U23: =U22+1 -> 2018 | V23: 183.29423 | W23: 138.40907
A24: Dredger Captain | B24: 112072 | C24: 117431 | D24: - | E24: 116571 | F24: 118056 | G24: 126060 | H24: - | I24: 136571 | J24: 149178 | K24: 153960 | L24: 191388 | M24: - | N24: - | O24: 231855 | P24: - | Q24: - | R24: - | U24: =U23+1 -> 2019 | V24: 193.76815 | W24: 146.31814
A25: Dredger Engineer | B25: 88436 | C25: 90764 | D25: - | E25: 100290 | F25: 111883 | G25: 120000 | H25: - | I25: 129869 | J25: 141301 | K25: 140829 | L25: 168421 | M25: - | N25: - | O25: 204039 | P25: - | Q25: - | R25: - | U25: =U24+1 -> 2020 | V25: 203.3383 | W25: 153.54475
A26: Dredger Operator | B26: 92224 | C26: 92121 | D26: - | E26: 98425 | F26: 99884 | G26: 106774 | H26: - | I26: - | J26: 126892 | K26: 139161 | L26: 164411 | M26: - | N26: - | O26: 198611 | P26: - | Q26: - | R26: - | U26: =U25+1 -> 2021 | V26: 213.5368 | W26: 161.24584
A27: Duct Worker | B27: 84482 | C27: 90070 | D27: 96913 | E27: 100200 | F27: 105056 | G27: 112186 | H27: 122054 | I27: 130860 | J27: 147452 | K27: 164907 | L27: 177520 | M27: 181078 | N27: 189441 | O27: 203376 | P27: 207557 | Q27: 205696 | R27: 202472 | U27: =U26+1 -> 2022 | V27: 196.61109 | W27: 148.4649
A28: Electrical Work Engineer | B28: 120056 | C28: 128372 | D28: 137191 | E28: 145542 | F28: 157425 | G28: 164207 | H28: 189482 | I28: 205010 | J28: 228507 | K28: 261628 | L28: 267522 | M28: 272340 | N28: 292105 | O28: 314544 | P28: 322514 | Q28: 333866 | R28: 335319 | U28: =U27+1 -> 2023 | V28: 207.67977 | W28: 156.82308
A29: Electrical Work Industry Engineer | B29: 106627 | C29: 115183 | D29: 124244 | E29: 134188 | F29: 139356 | G29: 141478 | H29: 164000 | I29: 179744 | J29: 203354 | K29: 231347 | L29: 240324 | M29: 246849 | N29: 260292 | O29: 281158 | P29: 287871 | Q29: 292729 | R29: 294135 | U29: 2024 | V29: 207.05363 | W29: 156.35027
A30: Extra-High Voltage Power Cable Electrician | B30: 203302 | C30: 217870 | D30: 230335 | E30: 243173 | F30: 247913 | G30: 260975 | H30: 258175 | I30: 277601 | J30: 308360 | K30: 343650 | L30: 367852 | M30: 379743 | N30: 399437 | O30: 421236 | P30: 414989 | Q30: 439248 | R30: 440616 | U30: 2025 | V30: 204.24514 | W30: 154.22952
A31: Finishing Worker | B31: 95681 | C31: 102932 | D31: 112082 | E31: 117866 | F31: 121588 | G31: 129962 | H31: 141250 | I31: 151518 | J31: 170221 | K31: 187174 | L31: 203611 | M31: 209167 | N31: 227145 | O31: 240727 | P31: 247288 | Q31: 247938 | R31: 250903
A32: Formboard Carpenter | B32: 101932 | C32: 105805 | D32: 107506 | E32: 132235 | F32: 143562 | G32: 152831 | H32: 168448 | I32: 179290 | J32: 197929 | K32: 207239 | L32: 220808 | M32: 230766 | N32: 246376 | O32: 274955 | P32: 275108 | Q32: 273074 | R32: 275790
A33: Glass Blower | B33: 94934 | C33: 99467 | D33: 105193 | E33: 116298 | F33: 123299 | G33: 129263 | H33: 139664 | I33: 148516 | J33: 167287 | K33: 190247 | L33: 197685 | M33: 211036 | N33: 229105 | O33: 241506 | P33: 247778 | Q33: 250389 | R33: 253539
A34: Grinding Worker | B34: 88269 | C34: 86165 | D34: 96541 | E34: 103896 | F34: 113333 | G34: 116489 | H34: 126629 | I34: 135816 | J34: 145883 | K34: 153200 | L34: 164445 | M34: 170190 | N34: 186660 | O34: - | P34: - | Q34: 210772 | R34: -
A35: H/W Tester | B35: 170735 | C35: 177071 | D35: 191461 | E35: 194224 | F35: 204329 | G35: 210314 | H35: 232334 | I35: 250248 | J35: 281211 | K35: 316006 | L35: 329985 | M35: 332268 | N35: 349792 | O35: 364183 | P35: 381052 | Q35: 390048 | R35: 393090
A36: Handler of gunpowder | B36: 91167 | C36: 98620 | D36: 116554 | E36: 126015 | F36: 136494 | G36: 140738 | H36: 152163 | I36: 164637 | J36: 164540 | K36: 177500 | L36: 189117 | M36: 207145 | N36: 226437 | O36: 246180 | P36: 252322 | Q36: 261462 | R36: 272448
A37: Head of Korean Traditional Painter | B37: - | C37: - | D37: - | E37: - | F37: - | G37: - | H37: - | I37: - | J37: 243477 | K37: - | L37: - | M37: - | N37: 250000 | O37: - | P37: - | Q37: - | R37: 286887
A38: Head of Korean Traditional Plasterer | B38: - | C38: - | D38: - | E38: - | F38: - | G38: - | H38: - | I38: - | J38: - | K38: 271307 | L38: 256667 | M38: 279896 | N38: - | O38: - | P38: - | Q38: - | R38: -
A39: Head of Korean Traditional Roof Tiler | B39: - | C39: - | D39: - | E39: - | F39: - | G39: - | H39: - | I39: - | J39: - | K39: 306667 | L39: - | M39: 374422 | N39: - | O39: 458667 | P39: - | Q39: - | R39: -
A40: Head of Wooden Cultural Heritage Maintenance Man | B40: - | C40: - | D40: - | E40: - | F40: - | G40: - | H40: - | I40: - | J40: - | K40: - | L40: - | M40: - | N40: - | O40: - | P40: - | Q40: - | R40: -
A41: Head of Working Group | B41: 95671 | C41: 100879 | D41: 103595 | E41: 105174 | F41: 109664 | G41: 111998 | H41: 124304 | I41: 132631 | J41: 145013 | K41: 159003 | L41: 174074 | M41: 182544 | N41: 191344 | O41: 204626 | P41: 209949 | Q41: 214661 | R41: 215907
...

Sheet Wages combined
B1: source: https://unctadstat-api.unctad.org/bulkdownload/US.ShipBuilding/US_ShipBuilding
B2: Ships built by country of building (in GT) | G2: Weight | L2: Wage Index | Q2: Weighted
B3: China | C3: South Korea | D3: Japan | E3: Europe | G3: China | H3: South Korea | I3: Japan | J3: Europe | K3: Other | L3: China | M3: South Korea | N3: Japan | O3: Europe | P3: Other | Q3: All
A4: 2010 | B4: =ShipBuiltByCountry!B4 -> 36200000 | C4: =ShipBuiltByCountry!C4 -> 31700000 | D4: =ShipBuiltByCountry!D4 -> 20200000 | E4: =ShipBuiltByCountry!E4 -> 4700000 | G4: =B4/SUM($B4:$E4) -> 0.39008621 | H4: =C4/SUM($B4:$E4) -> 0.34159483 | I4: =D4/SUM($B4:$E4) -> 0.21767241 | J4: =E4/SUM($B4:$E4) -> 0.050646552 | Q4: =SUMPRODUCT(G4:J4,L4:O4) -> 0
A5: 2011 | B5: =ShipBuiltByCountry!B5 -> 39200000 | C5: =ShipBuiltByCountry!C5 -> 35800000 | D5: =ShipBuiltByCountry!D5 -> 19300000 | E5: =ShipBuiltByCountry!E5 -> 2800000 | G5: =B5/SUM($B5:$E5) -> 0.40370752 | H5: =C5/SUM($B5:$E5) -> 0.36869207 | I5: =D5/SUM($B5:$E5) -> 0.19876416 | J5: =E5/SUM($B5:$E5) -> 0.028836251 | Q5: =SUMPRODUCT(G5:J5,L5:O5) -> 0
A6: 2012 | B6: =ShipBuiltByCountry!B6 -> 38800000 | C6: =ShipBuiltByCountry!C6 -> 31600000 | D6: =ShipBuiltByCountry!D6 -> 17400000 | E6: =ShipBuiltByCountry!E6 -> 2400000 | G6: =B6/SUM($B6:$E6) -> 0.43015521 | H6: =C6/SUM($B6:$E6) -> 0.35033259 | I6: =D6/SUM($B6:$E6) -> 0.19290466 | J6: =E6/SUM($B6:$E6) -> 0.026607539 | Q6: =SUMPRODUCT(G6:J6,L6:O6) -> 0
A7: 2013 | B7: =ShipBuiltByCountry!B7 -> 25800000 | C7: =ShipBuiltByCountry!C7 -> 24500000 | D7: =ShipBuiltByCountry!D7 -> 14500000 | E7: =ShipBuiltByCountry!E7 -> 2100000 | G7: =B7/SUM($B7:$E7) -> 0.38565022 | H7: =C7/SUM($B7:$E7) -> 0.36621824 | I7: =D7/SUM($B7:$E7) -> 0.21674141 | J7: =E7/SUM($B7:$E7) -> 0.031390135 | Q7: =SUMPRODUCT(G7:J7,L7:O7) -> 0
A8: 2014 | B8: =ShipBuiltByCountry!B8 -> 22851302 | C8: =ShipBuiltByCountry!C8 -> 21871925 | D8: =ShipBuiltByCountry!D8 -> 13392130 | E8: =ShipBuiltByCountry!E8 -> 1789435 | G8: =B8/SUM($B8:$E8) -> 0.38146033 | H8: =C8/SUM($B8:$E8) -> 0.36511144 | I8: =D8/SUM($B8:$E8) -> 0.22355691 | J8: =E8/SUM($B8:$E8) -> 0.029871316 | Q8: =SUMPRODUCT(G8:J8,L8:O8) -> 0
A9: 2015 | B9: =ShipBuiltByCountry!B9 -> 25275424 | C9: =ShipBuiltByCountry!C9 -> 23756983 | D9: =ShipBuiltByCountry!D9 -> 12899210 | E9: =ShipBuiltByCountry!E9 -> 1589700 | G9: =B9/SUM($B9:$E9) -> 0.3979046 | H9: =C9/SUM($B9:$E9) -> 0.37400016 | I9: =D9/SUM($B9:$E9) -> 0.20306899 | J9: =E9/SUM($B9:$E9) -> 0.025026244 | L9: ='Wage China'!F17 -> 100 | M9: ='Wage Korea'!W20 -> 100 | N9: ='Wage Japan'!W73 -> 100 | O9: ='Wage Europe'!J24 -> 100 | Q9: =SUMPRODUCT(G9:J9,L9:O9) -> 100
A10: 2016 | B10: =ShipBuiltByCountry!B10 -> 22365449 | C10: =ShipBuiltByCountry!C10 -> 25455551 | D10: =ShipBuiltByCountry!D10 -> 13363959 | E10: =ShipBuiltByCountry!E10 -> 2607125 | G10: =B10/SUM($B10:$E10) -> 0.35059913 | H10: =C10/SUM($B10:$E10) -> 0.39903934 | I10: =D10/SUM($B10:$E10) -> 0.20949243 | J10: =E10/SUM($B10:$E10) -> 0.040869099 | L10: ='Wage China'!F18 -> 100.36174 | M10: ='Wage Korea'!W21 -> 108.00521 | N10: ='Wage Japan'!W74 -> 100.60545 | O10: ='Wage Europe'!J25 -> 101.37858 | Q10: =SUMPRODUCT(G10:J10,L10:O10) -> 103.50439
A11: 2017 | B11: =ShipBuiltByCountry!B11 -> 23682160 | C11: =ShipBuiltByCountry!C11 -> 22616947 | D11: =ShipBuiltByCountry!D11 -> 13113388 | E11: =ShipBuiltByCountry!E11 -> 2324033 | G11: =B11/SUM($B11:$E11) -> 0.38360045 | H11: =C11/SUM($B11:$E11) -> 0.36634627 | I11: =D11/SUM($B11:$E11) -> 0.2124089 | J11: =E11/SUM($B11:$E11) -> 0.037644375 | L11: ='Wage China'!F19 -> 104.39079 | M11: ='Wage Korea'!W22 -> 119.72529 | N11: ='Wage Japan'!W75 -> 101.10999 | O11: ='Wage Europe'!J26 -> 103.39343 | Q11: =SUMPRODUCT(G11:J11,L11:O11) -> 109.27411
A12: 2018 | B12: =ShipBuiltByCountry!B12 -> 23259789 | C12: =ShipBuiltByCountry!C12 -> 14633292 | D12: =ShipBuiltByCountry!D12 -> 14440056 | E12: =ShipBuiltByCountry!E12 -> 2028946 | G12: =B12/SUM($B12:$E12) -> 0.42786788 | H12: =C12/SUM($B12:$E12) -> 0.26918196 | I12: =D12/SUM($B12:$E12) -> 0.26562735 | J12: =E12/SUM($B12:$E12) -> 0.037322816 | L12: ='Wage China'!F20 -> 109.99071 | M12: ='Wage Korea'!W23 -> 138.40907 | N12: ='Wage Japan'!W76 -> 102.5227 | O12: ='Wage Europe'!J27 -> 106.04454 | Q12: =SUMPRODUCT(G12:J12,L12:O12) -> 115.50943
A13: 2019 | B13: =ShipBuiltByCountry!B13 -> 23074209 | C13: =ShipBuiltByCountry!C13 -> 21670363 | D13: =ShipBuiltByCountry!D13 -> 16241929 | E13: =ShipBuiltByCountry!E13 -> 2326154 | G13: =B13/SUM($B13:$E13) -> 0.36444861 | H13: =C13/SUM($B13:$E13) -> 0.34227538 | I13: =D13/SUM($B13:$E13) -> 0.25653527 | J13: =E13/SUM($B13:$E13) -> 0.036740743 | L13: ='Wage China'!F21 -> 103.93061 | M13: ='Wage Korea'!W24 -> 146.31814 | N13: ='Wage Japan'!W77 -> 102.11907 | O13: ='Wage Europe'!J28 -> 108.69565 | Q13: =SUMPRODUCT(G13:J13,L13:O13) -> 118.14917
A14: 2020 | B14: =ShipBuiltByCountry!B14 -> 23257200 | C14: =ShipBuiltByCountry!C14 -> 18173891 | D14: =ShipBuiltByCountry!D14 -> 12827375 | E14: =ShipBuiltByCountry!E14 -> 1668709 | G14: =B14/SUM($B14:$E14) -> 0.41584793 | H14: =C14/SUM($B14:$E14) -> 0.32495636 | I14: =D14/SUM($B14:$E14) -> 0.22935854 | J14: =E14/SUM($B14:$E14) -> 0.029837177 | L14: ='Wage China'!F22 -> 122.65402 | M14: ='Wage Korea'!W25 -> 153.54475 | N14: ='Wage Japan'!W78 -> 100.90817 | O14: ='Wage Europe'!J29 -> 111.98303 | Q14: =SUMPRODUCT(G14:J14,L14:O14) -> 127.38617
A15: 2021 | B15: =ShipBuiltByCountry!B15 -> 26863204 | C15: =ShipBuiltByCountry!C15 -> 19687307 | D15: =ShipBuiltByCountry!D15 -> 10726209 | E15: =ShipBuiltByCountry!E15 -> 1858568 | G15: =B15/SUM($B15:$E15) -> 0.4542669 | H15: =C15/SUM($B15:$E15) -> 0.33291978 | I15: =D15/SUM($B15:$E15) -> 0.18138424 | J15: =E15/SUM($B15:$E15) -> 0.031429085 | L15: ='Wage China'!F23 -> 147.7405 | M15: ='Wage Korea'!W26 -> 161.24584 | N15: ='Wage Japan'!W79 -> 101.2109 | O15: ='Wage Europe'!J30 -> 114.42206 | Q15: =SUMPRODUCT(G15:J15,L15:O15) -> 142.74979
A16: 2022 | B16: =ShipBuiltByCountry!B16 -> 25893611 | C16: =ShipBuiltByCountry!C16 -> 16254013 | D16: =ShipBuiltByCountry!D16 -> 9585299 | E16: =ShipBuiltByCountry!E16 -> 2464335 | G16: =B16/SUM($B16:$E16) -> 0.47776607 | H16: =C16/SUM($B16:$E16) -> 0.29990471 | I16: =D16/SUM($B16:$E16) -> 0.17685948 | J16: =E16/SUM($B16:$E16) -> 0.045469736 | L16: ='Wage China'!F24 -> 147.93052 | M16: ='Wage Korea'!W27 -> 148.4649 | N16: ='Wage Japan'!W80 -> 103.22906 | O16: ='Wage Europe'!J31 -> 119.93637 | Q16: =SUMPRODUCT(G16:J16,L16:O16) -> 138.91202
A17: 2023 | B17: =ShipBuiltByCountry!B17 -> 32859862 | C17: =ShipBuiltByCountry!C17 -> 18317886 | D17: =ShipBuiltByCountry!D17 -> 9965182 | E17: =ShipBuiltByCountry!E17 -> 1623926 | G17: =B17/SUM($B17:$E17) -> 0.52352251 | H17: =C17/SUM($B17:$E17) -> 0.29184011 | I17: =D17/SUM($B17:$E17) -> 0.15876503 | J17: =E17/SUM($B17:$E17) -> 0.025872349 | L17: ='Wage China'!F25 -> 136.61917 | M17: ='Wage Korea'!W28 -> 156.82308 | N17: ='Wage Japan'!W81 -> 104.43996 | O17: ='Wage Europe'!J32 -> 124.39024 | Q17: =SUMPRODUCT(G17:J17,L17:O17) -> 137.09016
A18: 2024 | B18: =ShipBuiltByCountry!B18 -> 39118358 | C18: =ShipBuiltByCountry!C18 -> 20090872 | D18: =ShipBuiltByCountry!D18 -> 9002442 | E18: =ShipBuiltByCountry!E18 -> 1465548 | G18: =B18/SUM($B18:$E18) -> 0.56142248 | H18: =C18/SUM($B18:$E18) -> 0.28834204 | I18: =D18/SUM($B18:$E18) -> 0.12920208 | J18: =E18/SUM($B18:$E18) -> 0.021033388 | L18: ='Wage China'!F26 -> 143.1958 | M18: ='Wage Korea'!W29 -> 156.35027 | N18: ='Wage Japan'!W82 -> 110.19173 | O18: ='Wage Europe'!J33 -> 129.48038 | Q18: =SUMPRODUCT(G18:J18,L18:O18) -> 142.43611
A19: 2025 | B19: =ShipBuiltByCountry!B19 -> 57379731 | C19: =ShipBuiltByCountry!C19 -> 18955211 | D19: =ShipBuiltByCountry!D19 -> 9584443.1 | E19: =ShipBuiltByCountry!E19 -> 1757114.9 | G19: =B19/SUM($B19:$E19) -> 0.65444824 | H19: =C19/SUM($B19:$E19) -> 0.21619489 | I19: =D19/SUM($B19:$E19) -> 0.10931599 | J19: =E19/SUM($B19:$E19) -> 0.020040888 | L19: ='Wage China'!F27 -> 149.6087 | M19: ='Wage Korea'!W30 -> 154.22952 | N19: ='Wage Japan'!W83 -> 111.80626 | O19: ='Wage Europe'!J34 -> 133.19194 | Q19: =SUMPRODUCT(G19:J19,L19:O19) -> 146.14628

Sheet Shipyard Capacity
C1: Danish Ship Finance Shipcard Capacity Index
D2: 2015=100
B3: Year | C3: Global Yard Utilization
B4: 2015 | C4: 51 | D4: 100
B5: =B4+1 -> 2016 | C5: 49 | D5: =C5/$C$4*100 -> 96.078431
B6: =B5+1 -> 2017 | C6: 50 | D6: =C6/$C$4*100 -> 98.039216
B7: =B6+1 -> 2018 | C7: 50 | D7: =C7/$C$4*100 -> 98.039216
B8: =B7+1 -> 2019 | C8: 55 | D8: =C8/$C$4*100 -> 107.84314
B9: =B8+1 -> 2020 | C9: 46 | D9: =C9/$C$4*100 -> 90.196078
B10: =B9+1 -> 2021 | C10: 59 | D10: =C10/$C$4*100 -> 115.68627
B11: =B10+1 -> 2022 | C11: 55 | D11: =C11/$C$4*100 -> 107.84314
B12: =B11+1 -> 2023 | C12: 65 | D12: =C12/$C$4*100 -> 127.45098
B13: =B12+1 -> 2024 | C13: 70 | D13: =C13/$C$4*100 -> 137.2549
B14: =B13+1 -> 2025 | C14: 71 | D14: =C14/$C$4*100 -> 139.21569
C17: source:
C18: https://skibskredit.dk/wp-content/uploads/2025/11/Shipping-Market-Review-November-2025-Updated-version-2.pdf
C19: p. 53

Sheet SWC Model
D1: 𝛽1 | E1: 𝛽2 | F1: 𝛽3
B2: Year | C2: Average claim cost (Cefor) | D2: Steel | E2: Wages | F2: Shipyard capacity | H2: Steel-Wage-Capacity (SWC) Model
B3: 2015 | C3: ='Cefor ClaimsCosts'!E11 -> 100 | D3: =Steel!E12 -> 100 | E3: ='Wages combined'!Q9 -> 100 | F3: ='Shipyard Capacity'!D4 -> 100 | G3: =B3 -> 2015 | H3: =$E$22+(SUMPRODUCT(D3:F3,$C$18:$E$18)) -> 93.372111
B4: 2016 | C4: ='Cefor ClaimsCosts'!E12 -> 80.664433 | D4: =Steel!E13 -> 88.84389 | E4: ='Wages combined'!Q10 -> 103.50439 | F4: ='Shipyard Capacity'!D5 -> 96.078431 | G4: =B4 -> 2016 | H4: =$E$22+(SUMPRODUCT(D4:F4,$C$18:$E$18)) -> 89.715115
B5: 2017 | C5: ='Cefor ClaimsCosts'!E13 -> 93.473805 | D5: =Steel!E14 -> 96.52581 | E5: ='Wages combined'!Q11 -> 109.27411 | F5: ='Shipyard Capacity'!D6 -> 98.039216 | G5: =B5 -> 2017 | H5: =$E$22+(SUMPRODUCT(D5:F5,$C$18:$E$18)) -> 92.268783
B6: 2018 | C6: ='Cefor ClaimsCosts'!E14 -> 94.380785 | D6: =Steel!E15 -> 111.18762 | E6: ='Wages combined'!Q12 -> 115.50943 | F6: ='Shipyard Capacity'!D7 -> 98.039216 | G6: =B6 -> 2018 | H6: =$E$22+(SUMPRODUCT(D6:F6,$C$18:$E$18)) -> 96.227705
B7: 2019 | C7: ='Cefor ClaimsCosts'!E15 -> 97.637811 | D7: =Steel!E16 -> 110.8321 | E7: ='Wages combined'!Q13 -> 118.14917 | F7: ='Shipyard Capacity'!D8 -> 107.84314 | G7: =B7 -> 2019 | H7: =$E$22+(SUMPRODUCT(D7:F7,$C$18:$E$18)) -> 98.298372
B8: 2020 | C8: ='Cefor ClaimsCosts'!E16 -> 96.183371 | D8: =Steel!E17 -> 100.99905 | E8: ='Wages combined'!Q14 -> 127.38617 | F8: ='Shipyard Capacity'!D9 -> 90.196078 | G8: =B8 -> 2020 | H8: =$E$22+(SUMPRODUCT(D8:F8,$C$18:$E$18)) -> 92.180466
B9: 2021 | C9: ='Cefor ClaimsCosts'!E17 -> 110.16689 | D9: =Steel!E18 -> 139.22186 | E9: ='Wages combined'!Q15 -> 142.74979 | F9: ='Shipyard Capacity'!D10 -> 115.68627 | G9: =B9 -> 2021 | H9: =$E$22+(SUMPRODUCT(D9:F9,$C$18:$E$18)) -> 107.94141
B10: 2022 | C10: ='Cefor ClaimsCosts'!E18 -> 110.24433 | D10: =Steel!E19 -> 174.39139 | E10: ='Wages combined'!Q16 -> 138.91202 | F10: ='Shipyard Capacity'!D11 -> 107.84314 | G10: =B10 -> 2022 | H10: =$E$22+(SUMPRODUCT(D10:F10,$C$18:$E$18)) -> 115.31183
B11: 2023 | C11: ='Cefor ClaimsCosts'!E19 -> 123.11145 | D11: =Steel!E20 -> 158.72085 | E11: ='Wages combined'!Q17 -> 137.09016 | F11: ='Shipyard Capacity'!D12 -> 127.45098 | G11: =B11 -> 2023 | H11: =$E$22+(SUMPRODUCT(D11:F11,$C$18:$E$18)) -> 115.39633
B12: 2024 | C12: ='Cefor ClaimsCosts'!E20 -> 113.5878 | D12: =Steel!E21 -> 148.51595 | E12: ='Wages combined'!Q18 -> 142.43611 | F12: ='Shipyard Capacity'!D13 -> 137.2549 | G12: =B12 -> 2024 | H12: =$E$22+(SUMPRODUCT(D12:F12,$C$18:$E$18)) -> 114.97095
B13: 2025 | C13: ='Cefor ClaimsCosts'!E21 -> 110.7744 | D13: =Steel!E22 -> 144.9113 | E13: ='Wages combined'!Q19 -> 146.14628 | F13: ='Shipyard Capacity'!D14 -> 139.21569 | G13: =B13 -> 2025 | H13: =$E$22+(SUMPRODUCT(D13:F13,$C$18:$E$18)) -> 114.54202
B15: Correlation | D15: =CORREL(D3:D12,E3:E12) -> 0.85279675 | E15: =CORREL(E3:E12,F3:F12) -> 0.69985521 | F15: =CORREL(F3:F12,D3:D12) -> 0.72836054 | H15: =CORREL(C3:C13,H3:H13) -> 0.90695345
C17: 𝛽1 | D17: 𝛽2 | E17: 𝛽3
B18: regression coefficients | C18: =D22 -> 0.25993502 | D18: =C22 -> 0.023704349 | E18: =B22 -> 0.21425153
B19: Values produced by linear regression below (YES constant)
B21: 𝛽3 | C21: 𝛽2 | D21: 𝛽1 | E21: 𝛽0
A22: Slope | B22: {=LINEST(C3:C13,D3:F13,TRUE,TRUE)} -> 0.21425153 | C22: 0.023704349 | D22: 0.25993502 | E22: 43.583022
A23: Std-Error(x) | B23: 0.17444282 | C23: 0.23353527 | D23: 0.12797158 | E23: 16.504899
A24: r²/Std-Error(y) | B24: 0.82256456 | C24: 6.0170003 | D24: #N/A | E24: #N/A
A25: F/df | B25: 10.816989 | C25: 7 | D25: #N/A | E25: #N/A
A26: ESS/RSS | B26: 1174.8643 | C26: 253.43004 | D26: #N/A | E26: #N/A
A27: Confidence | B27: =1-TDIST(ABS(B22/B23),$C$24,2) -> 0.73464079 | C27: =1-TDIST(ABS(C22/C23),$C$24,2) -> 0.077541166 | D27: =1-TDIST(ABS(D22/D23),$C$24,2) -> 0.91148262

Sheet Cefor ClaimsCosts
C4: 2010=100 | D4: 2010=100 | E4: 2015=100 | F4: 2015=100 | I4: Only claims > USD 10,000 are included to reduce 'noise' from claims just above the deductible and only include claims reflecting actual repairs (since average claim = total annual cost for claims not being total losses, divided by the number of claims per year)
C5: Average claim cost, excl. total losses, Index 1010=100% | D5: Claim cost per vessel, excl. total losses, 2010=100% | E5: Average claim cost, excl. total losses, Index 1010=100% | F5: Claim cost per vessel, excl. total losses, 2010=100%
B6: 2010 | C6: 100 | D6: 100
B7: 2011 | C7: 104.33015 | D7: 106.89468
B8: 2012 | C8: 108.01694 | D8: 96.295458
B9: 2013 | C9: 118.58289 | D9: 108.75721
B10: 2014 | C10: 95.871575 | D10: 87.575486
B11: 2015 | C11: 118.31353 | D11: 106.44401 | E11: 100 | F11: 100
B12: 2016 | C12: 95.436941 | D12: 78.641644 | E12: =C12/$C$11*100 -> 80.664433 | F12: =D12/$D$11*100 -> 73.880761
B13: 2017 | C13: 110.59216 | D13: 90.098302 | E13: =C13/$C$11*100 -> 93.473805 | F13: =D13/$D$11*100 -> 84.643845
B14: 2018 | C14: 111.66524 | D14: 92.312127 | E14: =C14/$C$11*100 -> 94.380785 | F14: =D14/$D$11*100 -> 86.723647
B15: 2019 | C15: 115.51874 | D15: 87.571103 | E15: =C15/$C$11*100 -> 97.637811 | F15: =D15/$D$11*100 -> 82.26964
B16: 2020 | C16: 113.79794 | D16: 78.850518 | E16: =C16/$C$11*100 -> 96.183371 | F16: =D16/$D$11*100 -> 74.07699
B17: 2021 | C17: 130.34234 | D17: 86.654958 | E17: =C17/$C$11*100 -> 110.16689 | F17: =D17/$D$11*100 -> 81.408958
B18: 2022 | C18: 130.43396 | D18: 94.973869 | E18: =C18/$C$11*100 -> 110.24433 | F18: =D18/$D$11*100 -> 89.22425
B19: 2023 | C19: 145.65751 | D19: 108.62552 | E19: =C19/$C$11*100 -> 123.11145 | F19: =D19/$D$11*100 -> 102.04944
B20: 2024 | C20: 134.38974 | D20: 107.87308 | E20: =C20/$C$11*100 -> 113.5878 | F20: =D20/$D$11*100 -> 101.34256
B21: 2025 | C21: 131.06111 | D21: 111.64069 | E21: =C21/$C$11*100 -> 110.7744 | F21: =D21/$D$11*100 -> 104.88208
B24: Average claim cost = Claim cost / Number of claims, per calendar year
B25: Claim cost per vessel = Claim cost / Number of insured vessels, per calendar year
B28: Source: The Nordic Association of Marine Insurers (Cefor), 2025 Ocean Hull key figures, page 26:
B29: https://cefor.no/globalassets/documents/statistics/nomis/2025/2025-cefor-ocean-hull-key-figures.pdf

Sheet ShipBuiltByCountry
B1: https://unctadstat.unctad.org/datacentre/dataviewer/shared-report/47d18800-9301-4106-b481-99c7b39c8bcc
B2: Ships built by country of building (in GT) | C2: annual (analytical)
B3: China | C3: South Korea | D3: Japan | E3: Europe
A4: 2010 | B4: 36200000 | C4: 31700000 | D4: 20200000 | E4: 4700000 | G4: Years 2010-2013 filled with data from https://www.construction-physics.com/p/how-china-became-the-worlds-biggest
A5: 2011 | B5: 39200000 | C5: 35800000 | D5: 19300000 | E5: 2800000
A6: 2012 | B6: 38800000 | C6: 31600000 | D6: 17400000 | E6: 2400000
A7: 2013 | B7: 25800000 | C7: 24500000 | D7: 14500000 | E7: 2100000
A8: 2014 | B8: 22851302 | C8: 21871925 | D8: 13392130 | E8: 1789435
A9: 2015 | B9: 25275424 | C9: 23756983 | D9: 12899210 | E9: 1589700
A10: 2016 | B10: 22365449 | C10: 25455551 | D10: 13363959 | E10: 2607125
A11: 2017 | B11: 23682160 | C11: 22616947 | D11: 13113388 | E11: 2324033
A12: 2018 | B12: 23259789 | C12: 14633292 | D12: 14440056 | E12: 2028946
A13: 2019 | B13: 23074209 | C13: 21670363 | D13: 16241929 | E13: 2326154
A14: 2020 | B14: 23257200 | C14: 18173891 | D14: 12827375 | E14: 1668709
A15: 2021 | B15: 26863204 | C15: 19687307 | D15: 10726209 | E15: 1858568
A16: 2022 | B16: 25893611 | C16: 16254013 | D16: 9585299 | E16: 2464335
... A18: 2024 | B18: 39118358 | C18: 20090872 | D18: 9002442 | E18: 1465548
A19: 2025 | B19: =B18*G23 -> 57379731 | C19: =C18*H23 -> 18955211 | D19: =D18*I23 -> 9584443.1 | E19: =E18*J23 -> 1757114.9 | G19: 2025 are extrapolated by YoY percentage change (basis: Clarkson's figures in mn CGT (as of 2026-03))
G20: China | H20: South Korea | I20: Japan | J20: Europe
F21: 2024 | G21: 67.97 | H21: 38.92 | I21: 14.54 | J21: 9.5
F22: 2025 | G22: 99.7 | H22: 36.72 | I22: 15.48 | J22: 11.39
G23: =(G22/G21) -> 1.4668236 | H23: =(H22/H21) -> 0.94347379 | I23: =(I22/I21) -> 1.0646492 | J23: =(J22/J21) -> 1.1989474

Sheet Exchange rates
A1: Base | B1: Invert | C1: COUNTRY | D1: CURRENCY | E1: Abbr | F1: 1997 | G1: 1998 | H1: 1999 | I1: 2000 | J1: 2001 | K1: 2002 | L1: 2003 | M1: 2004 | N1: 2005 | O1: 2006 | P1: 2007 | Q1: 2008 | R1: 2009 | S1: 2010 | T1: 2011 | U1: 2012 | V1: 2013 | W1: 2014 | X1: 2015 | Y1: 2016 | Z1: 2017 | AA1: 2018 | AB1: 2019 | AC1: 2020 | AD1: 2021 | AE1: 2022 | AF1: 2023 | AG1: 2024 | AH1: 2025 | AI1: 2026
A2: USD | B2: No | C2: AUSTRALIA | D2: DOLLAR | E2: AUD | F2: 0.7437 | G2: 0.6291 | H2: 0.6454 | I2: 0.5815 | J2: 0.5169 | K2: 0.5437 | L2: 0.6524 | M2: 0.7365 | N2: 0.7627 | O2: 0.7535 | P2: 0.8391 | Q2: 0.8537 | R2: 0.7927 | S2: 0.92 | T2: 1.0332 | U2: 1.0359 | V2: 0.9683 | W2: 0.9034 | X2: 0.7522 | Y2: 0.7445 | Z2: 0.7671 | AA2: 0.7481 | AB2: 0.6952 | AC2: 0.6899 | AD2: 0.7515 | AE2: 0.6951 | AF2: 0.6644 | AG2: 0.6597 | AH2: 0.645 | AI2: 0.6536 | AJ2: =AI2 -> 0.6536
A3: =E3 -> BRL | B3: Yes | C3: BRAZIL | D3: REAL | E3: BRL | F3: 1.0779 | G3: 1.1605 | H3: 1.8207 | I3: 1.8301 | J3: 2.3527 | K3: 2.9213 | L3: 3.075 | M3: 2.9262 | N3: 2.4352 | O3: 2.1738 | P3: 1.9461 | Q3: 1.8327 | R3: 1.9976 | S3: 1.76 | T3: 1.6723 | U3: 1.9535 | V3: 2.157 | W3: 2.3512 | X3: 3.336 | Y3: 3.4839 | Z3: 3.191 | AA3: 3.6513 | AB3: 3.944 | AC3: 5.1587 | AD3: 5.3958 | AE3: 5.1605 | AF3: 4.9946 | AG3: 5.3872 | AH3: 5.5891 | AI3: 5.5332 | AJ3: =AI3 -> 5.5332
A4: =E4 -> CAD | B4: Yes | C4: CANADA | D4: DOLLAR | E4: CAD | F4: 1.3849 | G4: 1.4836 | H4: 1.4858 | I4: 1.4855 | J4: 1.5487 | K4: 1.5704 | L4: 1.4008 | M4: 1.3017 | N4: 1.2115 | O4: 1.134 | P4: 1.0734 | Q4: 1.066 | R4: 1.1412 | S4: 1.0298 | T4: 0.9887 | U4: 0.9995 | V4: 1.03 | W4: 1.1043 | X4: 1.2791 | Y4: 1.3243 | Z4: 1.2984 | AA4: 1.2957 | AB4: 1.3269 | AC4: 1.3422 | AD4: 1.2533 | AE4: 1.3014 | AF4: 1.3494 | AG4: 1.3699 | AH4: 1.3973 | AI4: 1.3691 | AJ4: =AI4 -> 1.3691
A5: =E5 -> CNY | B5: Yes | C5: CHINA, P.R. | D5: YUAN | E5: CNY | F5: 8.3193 | G5: 8.3008 | H5: 8.2783 | I5: 8.2784 | J5: 8.277 | K5: 8.2771 | L5: 8.2772 | M5: 8.2768 | N5: 8.1936 | O5: 7.9723 | P5: 7.6058 | Q5: 6.9477 | R5: 6.8307 | S5: 6.7696 | T5: 6.463 | U5: 6.3093 | V5: 6.1478 | W5: 6.162 | X5: 6.2827 | Y5: 6.64 | Z5: 6.7569 | AA5: 6.609 | AB5: 6.9081 | AC5: 6.9042 | AD5: 6.4508 | AE5: 6.729 | AF5: 7.0809 | AG5: 7.1957 | AH5: 7.1875 | AI5: 7.1741 | AJ5: =AI5 -> 7.1741
A6: =E6 -> DKK | B6: Yes | C6: DENMARK | D6: KRONE | E6: DKK | F6: 6.6092 | G6: 6.703 | H6: 6.99 | I6: 8.0953 | J6: 8.3323 | K6: 7.8862 | L6: 6.5774 | M6: 5.9891 | N6: 5.9953 | O6: 5.9422 | P6: 5.4413 | Q6: 5.0885 | R6: 5.3574 | S6: 5.6265 | T6: 5.3535 | U6: 5.7922 | V6: 5.617 | W6: 5.6151 | X6: 6.7263 | Y6: 6.7276 | Z6: 6.5957 | AA6: 6.3131 | AB6: 6.6703 | AC6: 6.543 | AD6: 6.2897 | AE6: 7.0786 | AF6: 6.89 | AG6: 6.8955 | AH6: 6.6137 | AI6: 6.3944 | AJ6: =AI6 -> 6.3944
A7: USD | B7: No | C7: EU | D7: EURO | E7: EUR | F7: N.A. | G7: N.A. | H7: 1.0653 | I7: 0.9232 | J7: 0.8952 | K7: 0.9454 | L7: 1.1321 | M7: 1.2438 | N7: 1.2449 | O7: 1.2563 | P7: 1.3711 | Q7: 1.4726 | R7: 1.3935 | S7: 1.3261 | T7: 1.3931 | U7: 1.2859 | V7: 1.3281 | W7: 1.3297 | X7: 1.1096 | Y7: 1.1072 | Z7: 1.1301 | AA7: 1.1817 | AB7: 1.1194 | AC7: 1.141 | AD7: 1.183 | AE7: 1.0534 | AF7: 1.0817 | AG7: 1.082 | AH7: 1.1306 | AI7: 1.1671 | AJ7: =AI7 -> 1.1671
A8: =E8 -> HKD | B8: Yes | C8: HONG KONG | D8: DOLLAR | E8: HKD | F8: 7.7431 | G8: 7.7467 | H8: 7.7594 | I8: 7.7924 | J8: 7.7997 | K8: 7.7996 | L8: 7.7875 | M8: 7.7891 | N8: 7.7775 | O8: 7.7681 | P8: 7.8016 | Q8: 7.7862 | R8: 7.7514 | S8: 7.7687 | T8: 7.7841 | U8: 7.7569 | V8: 7.7565 | W8: 7.7545 | X8: 7.7524 | Y8: 7.762 | Z8: 7.7926 | AA8: 7.8376 | AB8: 7.8351 | AC8: 7.7559 | AD8: 7.7727 | AE8: 7.8306 | AF8: 7.8292 | AG8: 7.803 | AH8: 7.7956 | AI8: 7.8496 | AJ8: =AI8 -> 7.8496
A9: =E9 -> INR | B9: Yes | C9: INDIA | D9: RUPEE | E9: INR | F9: 36.36 | G9: 41.36 | H9: 43.13 | I9: 45 | J9: 47.22 | K9: 48.63 | L9: 46.59 | M9: 45.26 | N9: 44 | O9: 45.19 | P9: 41.18 | Q9: 43.39 | R9: 48.33 | S9: 45.65 | T9: 46.58 | U9: 53.37 | V9: 58.51 | W9: 61 | X9: 64.11 | Y9: 67.16 | Z9: 65.0659 | AA9: 68.3734 | AB9: 70.3777 | AC9: 74.1429 | AD9: 73.9351 | AE9: 78.5792 | AF9: 82.5708 | AG9: 83.6566 | AH9: 87.1468 | AI9: 86.1714 | AJ9: =AI9 -> 86.1714
A10: JPY | B10: Yes | C10: JAPAN | D10: YEN | E10: JPY | F10: 121.06 | G10: 130.99 | H10: 113.73 | I10: 107.8 | J10: 121.57 | K10: 125.22 | L10: 115.94 | M10: 108.15 | N10: 110.11 | O10: 116.31 | P10: 117.76 | Q10: 103.39 | R10: 93.68 | S10: 87.78 | T10: 79.7 | U10: 79.82 | V10: 97.6 | W10: 105.74 | X10: 121.05 | Y10: 108.66 | Z10: 112.0986 | AA10: 110.3974 | AB10: 109.0188 | AC10: 106.7754 | AD10: 109.8429 | AE10: 131.4589 | AF10: 140.5001 | AG10: 151.4551 | AH10: 149.5686 | AI10: 147.2014 | AJ10: =AI10 -> 147.2014
A11: =E11 -> MYR | B11: Yes | C11: MALAYSIA | D11: RINGGIT | E11: MYR | F11: 2.8173 | G11: 3.9254 | H11: 3.8 | I11: 3.8 | J11: 3.8 | K11: 3.8 | L11: 3.8 | M11: 3.8 | N11: 3.7869 | O11: 3.6661 | P11: 3.4354 | Q11: 3.3292 | R11: 3.5231 | S11: 3.2175 | T11: 3.0564 | U11: 3.0862 | V11: 3.1488 | W11: 3.2697 | X11: 3.9041 | Y11: 4.1372 | Z11: 4.2982 | AA11: 4.0307 | AB11: 4.1416 | AC11: 4.2029 | AD11: 4.1439 | AE11: 4.3982 | AF11: 4.5577 | AG11: 4.5747 | AH11: 4.2809 | AI11: 4.2346 | AJ11: =AI11 -> 4.2346
A12: =E12 -> MXN | B12: Yes | C12: MEXICO | D12: PESO | E12: MXN | F12: 7.918 | G12: 9.152 | H12: 9.553 | I12: 9.459 | J12: 9.337 | K12: 9.663 | L12: 10.793 | M12: 11.29 | N12: 10.894 | O12: 10.906 | P12: 10.928 | Q12: 11.143 | R12: 13.498 | S12: 12.624 | T12: 12.427 | U12: 13.154 | V12: 12.758 | W12: 13.302 | X12: 15.873 | Y12: 18.667 | Z12: 18.8841 | AA12: 19.2179 | AB12: 19.2469 | AC12: 21.5462 | AD12: 20.2844 | AE12: 20.1208 | AF12: 17.7334 | AG12: 18.3062 | AH12: 19.2052 | AI12: 18.6886 | AJ12: =AI12 -> 18.6886
A13: USD | B13: No | C13: NEW ZEALAND | D13: DOLLAR | E13: NZD | F13: 0.6625 | G13: 0.5361 | H13: 0.5294 | I13: 0.4568 | J13: 0.4202 | K13: 0.4645 | L13: 0.5822 | M13: 0.6643 | N13: 0.7049 | O13: 0.6492 | P13: 0.7365 | Q13: 0.7151 | R13: 0.6358 | S13: 0.7216 | T13: 0.792 | U13: 0.8105 | V13: 0.8204 | W13: 0.8313 | X13: 0.7001 | Y13: 0.6976 | Z13: 0.7111 | AA13: 0.6929 | AB13: 0.6591 | AC13: 0.6498 | AD13: 0.7074 | AE13: 0.6361 | AF13: 0.6143 | AG13: 0.605 | AH13: 0.5822 | AI13: 0.5992 | AJ13: =AI13 -> 0.5992
A14: =E14 -> NOK | B14: Yes | C14: NORWAY | D14: KRONE | E14: NOK | F14: 7.0857 | G14: 7.5521 | H14: 7.8071 | I14: 8.8131 | J14: 8.9964 | K14: 7.9839 | L14: 7.0803 | M14: 6.7399 | N14: 6.4412 | O14: 6.4095 | P14: 5.8557 | Q14: 5.6365 | R14: 6.2908 | S14: 6.0451 | T14: 5.6022 | U14: 5.8181 | V14: 5.8772 | W14: 6.2969 | X14: 8.0681 | Y14: 8.3936 | Z14: 8.2679 | AA14: 8.1318 | AB14: 8.8001 | AC14: 9.4283 | AD14: 8.5955 | AE14: 9.6138 | AF14: 10.5659 | AG14: 10.7574 | AH14: 10.3852 | AI14: 10.1573 | AJ14: =AI14 -> 10.1573
A15: =E15 -> SGD | B15: Yes | C15: SINGAPORE | D15: DOLLAR | E15: SGD | F15: 1.4857 | G15: 1.6722 | H15: 1.6951 | I15: 1.725 | J15: 1.793 | K15: 1.7908 | L15: 1.7429 | M15: 1.6902 | N15: 1.6639 | O15: 1.5882 | P15: 1.5065 | Q15: 1.414 | R15: 1.4543 | S15: 1.3629 | T15: 1.2565 | U15: 1.2492 | V15: 1.2511 | W15: 1.2665 | X15: 1.3746 | Y15: 1.38 | Z15: 1.3802 | AA15: 1.3486 | AB15: 1.3641 | AC15: 1.38 | AD15: 1.3438 | AE15: 1.3787 | AF15: 1.3428 | AG15: 1.3363 | AH15: 1.3065 | AI15: 1.2817 | AJ15: =AI15 -> 1.2817
A16: =E16 -> ZAR | B16: Yes | C16: SOUTH AFRICA | D16: RAND | E16: ZAR | F16: 4.6072 | G16: 5.5417 | H16: 6.1191 | I16: 6.9468 | J16: 8.6093 | K16: 10.5176 | L16: 7.555 | M16: 6.4402 | N16: 6.3606 | O16: 6.7668 | P16: 7.0477 | Q16: 8.248 | R16: 8.4117 | S16: 7.3159 | T16: 7.251 | U16: 8.2014 | V16: 9.6436 | W16: 10.842 | X16: 12.7645 | Y16: 14.6821 | Z16: 13.2943 | AA16: 13.2255 | AB16: 14.4475 | AC16: 16.4932 | AD16: 14.7751 | AE16: 16.3598 | AF16: 18.4535 | AG16: 18.3346 | AH16: 17.8782 | AI16: 17.7702 | AJ16: =AI16 -> 17.7702
A17: =E17 -> KRW | B17: Yes | C17: SOUTH KOREA | D17: WON | E17: KRW | F17: 947.65 | G17: 1400.4 | H17: 1189.84 | I17: 1130.9 | J17: 1292.01 | K17: 1250.31 | L17: 1192.08 | M17: 1145.24 | N17: 1023.75 | O17: 954.32 | P17: 928.97 | Q17: 1098.71 | R17: 1274.63 | S17: 1155.74 | T17: 1106.94 | U17: 1126.16 | V17: 1094.67 | W17: 1052.29 | X17: 1130.96 | Y17: 1159.34 | Z17: 1129.0435 | AA17: 1099.2926 | AB17: 1165.8016 | AC17: 1180.5554 | AD17: 1144.8911 | AE17: 1291.7796 | AF17: 1306.7637 | AG17: 1363.4381 | AH17: 1421.3963 | AI17: 1379.2959 | AJ17: =AI17 -> 1379.2959
A18: =E18 -> LKR | B18: Yes | C18: SRI LANKA | D18: RUPEE | E18: LKR | F18: 59.026 | G18: 65.005 | H18: 70.868 | I18: 76.964 | J18: 89.602 | K18: 95.773 | L18: 96.541 | M18: 101.268 | N18: 100.383 | O18: 103.94 | P18: 110.62 | Q18: 108.298 | R18: 114.909 | S18: 112.99 | T18: 110.469 | U18: 127.539 | V18: 129.046 | W18: 130.536 | X18: 135.869 | Y18: 145.735 | Z18: 152.4346 | AA18: 162.2534 | AB18: 178.5137 | AC18: 185.3319 | AD18: 197.8963 | AE18: 321.5261 | AF18: 326.6297 | AG18: 301.6752 | AH18: 300.733 | AI18: 301.0836 | AJ18: =AI18 -> 301.0836
A19: =E19 -> SEK | B19: Yes | C19: SWEDEN | D19: KRONA | E19: SEK | F19: 7.6446 | G19: 7.9522 | H19: 8.274 | I19: 9.1735 | J19: 10.3425 | K19: 9.7233 | L19: 8.0787 | M19: 7.348 | N19: 7.471 | O19: 7.3718 | P19: 6.755 | Q19: 6.5846 | R19: 7.6539 | S19: 7.2053 | T19: 6.4878 | U19: 6.7721 | V19: 6.5124 | W19: 6.8576 | X19: 8.435 | Y19: 8.5541 | Z19: 8.543 | AA19: 8.6945 | AB19: 9.4604 | AC19: 9.2167 | AD19: 8.5812 | AE19: 10.1177 | AF19: 10.6089 | AG19: 10.5744 | AH19: 9.806 | AI19: 9.5975 | AJ19: =AI19 -> 9.5975
A20: =E20 -> CHF | B20: Yes | C20: SWITZERLAND | D20: FRANC | E20: CHF | F20: 1.4514 | G20: 1.4506 | H20: 1.5045 | I20: 1.6904 | J20: 1.6891 | K20: 1.5567 | L20: 1.345 | M20: 1.2428 | N20: 1.2459 | O20: 1.2532 | P20: 1.1999 | Q20: 1.0816 | R20: 1.086 | S20: 1.0432 | T20: 0.8862 | U20: 0.9377 | V20: 0.9269 | W20: 0.9147 | X20: 0.9628 | Y20: 0.9848 | Z20: 0.9842 | AA20: 0.9784 | AB20: 0.9937 | AC20: 0.9389 | AD20: 0.9144 | AE20: 0.955 | AF20: 0.8984 | AG20: 0.8808 | AH20: 0.8305 | AI20: 0.7989 | AJ20: =AI20 -> 0.7989
A21: =E21 -> TWD | B21: Yes | C21: TAIWAN | D21: DOLLAR | E21: TWD | F21: 28.775 | G21: 33.547 | H21: 32.322 | I21: 31.26 | J21: 33.824 | K21: 34.536 | L21: 34.405 | M21: 33.372 | N21: 32.131 | O21: 32.506 | P21: 32.855 | Q21: 31.521 | R21: 33.02 | S21: 31.497 | T21: 29.382 | U21: 29.558 | V21: 29.68 | W21: 30.299 | X21: 31.744 | Y21: 32.226 | Z21: 30.4016 | AA21: 30.1294 | AB21: 30.9049 | AC21: 29.4568 | AD21: 27.9366 | AE21: 29.7963 | AF21: 31.1525 | AG21: 32.1064 | AH21: 31.1663 | AI21: 29.3395 | AJ21: =AI21 -> 29.3395
A22: =E22 -> THB | B22: Yes | C22: THAILAND | D22: BAHT | E22: THB | F22: 31.072 | G22: 41.262 | H22: 37.887 | I22: 40.21 | J22: 44.532 | K22: 43.019 | L22: 41.556 | M22: 40.271 | N22: 40.252 | O22: 37.876 | P22: 32.203 | Q22: 32.962 | R22: 34.31 | S22: 31.7 | T22: 30.462 | U22: 31.055 | V22: 30.696 | W22: 32.461 | X22: 34.241 | Y22: 35.264 | Z22: 33.9134 | AA22: 32.3035 | AB22: 31.0419 | AC22: 31.307 | AD22: 32.0052 | AE22: 35.05 | AF22: 34.7841 | AG22: 35.2845 | AH22: 32.8619 | AI22: 32.455 | AJ22: =AI22 -> 32.455
